BEGIN:VCALENDAR
VERSION:2.0
PRODID:-//Tukios.com/
BEGIN:VEVENT
UID:e386fd54-a656-4469-b45d-a217bbb2b277@www.tuftsschildmeyer.com
DTSTAMP:20260422T211417Z
DTSTART:20260429T180000Z
DTEND:20260429T190000Z
SUMMARY:Burial
DESCRIPTION:
URL:https://www.tuftsschildmeyer.com/obituaries/william-rhinehimer
LOCATION:  Jonesboro Road  Midland OH 45148
GEO:39.284894;-83.9013027
END:VEVENT
END:VCALENDAR