BEGIN:VCALENDAR
VERSION:2.0
PRODID:-//Tukios.com/
BEGIN:VEVENT
UID:fff0e60a-d83e-4859-b8dc-946c2439ad28@www.tuftsschildmeyer.com
DTSTAMP:20260422T211433Z
DTSTART:20260429T150000Z
DTEND:20260429T170000Z
SUMMARY:Visitation
DESCRIPTION:
URL:https://www.tuftsschildmeyer.com/obituaries/william-rhinehimer
LOCATION: 120 W Main St  Blanchester OH 45107
GEO:39.2928269;-83.9895098
END:VEVENT
END:VCALENDAR