BEGIN:VCALENDAR
VERSION:2.0
PRODID:-//Tukios.com/
BEGIN:VEVENT
UID:a4f44e10-ad31-4096-b928-919567166539@www.tuftsschildmeyer.com
DTSTAMP:20260423T220647Z
DTSTART:20260429T190000Z
DTEND:20260429T200000Z
SUMMARY:Funeral Service
DESCRIPTION:
URL:https://www.tuftsschildmeyer.com/obituaries/troy-johnson
LOCATION: 129 N. Riverside  Loveland OH 45140
GEO:39.2700781;-84.2619424
END:VEVENT
END:VCALENDAR