BEGIN:VCALENDAR
VERSION:2.0
PRODID:-//Tukios.com/
BEGIN:VEVENT
UID:dace7adb-c78b-497c-84fb-e8e6803805f6@www.tuftsschildmeyer.com
DTSTAMP:20260423T221117Z
DTSTART:20260429T180000Z
DTEND:20260429T190000Z
SUMMARY:Visitation
DESCRIPTION:
URL:https://www.tuftsschildmeyer.com/obituaries/troy-johnson
LOCATION: 129 N. Riverside  Loveland OH 45140
GEO:39.2700781;-84.2619424
END:VEVENT
END:VCALENDAR