BEGIN:VCALENDAR
VERSION:2.0
PRODID:-//Tukios.com/
BEGIN:VEVENT
UID:8094e52d-ed6e-4748-9e8d-b58db1e7c3e8@www.tuftsschildmeyer.com
DTSTAMP:20260425T194745Z
DTSTART:20260501T190000Z
DTEND:20260501T200000Z
SUMMARY:Celebration of Life
DESCRIPTION:
URL:https://www.tuftsschildmeyer.com/obituaries/ruth-frank
LOCATION:Blanchester Church of the Nazarene 10451 State Route 28  
	Blanchester OH 45107
GEO:39.2837972;-84.0160641
END:VEVENT
END:VCALENDAR