BEGIN:VCALENDAR
VERSION:2.0
PRODID:-//Tukios.com/
BEGIN:VEVENT
UID:370d2667-b33d-4957-8f14-5533c52903c8@www.tuftsschildmeyer.com
DTSTAMP:20260425T194754Z
DTSTART:20260501T180000Z
DTEND:20260501T190000Z
SUMMARY:Visitation
DESCRIPTION:
URL:https://www.tuftsschildmeyer.com/obituaries/ruth-frank
LOCATION: 10451 State Route 28  Blanchester OH 45107
GEO:39.2837972;-84.0160641
END:VEVENT
END:VCALENDAR