BEGIN:VCALENDAR
VERSION:2.0
PRODID:-//Tukios.com/
BEGIN:VEVENT
UID:911ed1bc-e0c0-4a47-989c-52ac55d10a78@www.tuftsschildmeyer.com
DTSTAMP:20260422T200932Z
DTSTART:20260427T150000Z
DTEND:20260427T160000Z
SUMMARY:Mass of Christian Burial
DESCRIPTION:
URL:https://www.tuftsschildmeyer.com/obituaries/marie-back
LOCATION: 616 Reading Rd  Mason OH 45040
GEO:39.3532387;-84.3173229
END:VEVENT
END:VCALENDAR