BEGIN:VCALENDAR
VERSION:2.0
PRODID:-//Tukios.com/
BEGIN:VEVENT
UID:932e67d9-70a9-418c-b3b0-e4049cbee930@www.tuftsschildmeyer.com
DTSTAMP:20260422T201049Z
DTSTART:20260427T140000Z
DTEND:20260427T150000Z
SUMMARY:Visitation
DESCRIPTION:
URL:https://www.tuftsschildmeyer.com/obituaries/marie-back
LOCATION:St. Susanna Catholic Church 616 Reading Rd  Mason OH 45040
GEO:39.3532387;-84.3173229
END:VEVENT
END:VCALENDAR