BEGIN:VCALENDAR
VERSION:2.0
PRODID:-//Tukios.com/
BEGIN:VEVENT
UID:2f451ab5-5171-414c-93a8-48481deefa32@www.tuftsschildmeyer.com
DTSTAMP:20260420T021645Z
DTSTART:20260502T180000Z
DTEND:20260502T200000Z
SUMMARY:Celebration of Life
DESCRIPTION:
URL:https://www.tuftsschildmeyer.com/obituaries/judy-lee
LOCATION: 5873 Ludlum Road  Morrow OH 45152
GEO:39.3433932;-84.1566019
END:VEVENT
END:VCALENDAR