BEGIN:VCALENDAR
VERSION:2.0
PRODID:-//Tukios.com/
BEGIN:VEVENT
UID:fcdd57a7-233b-4271-98f2-92f581c1163b@www.tuftsschildmeyer.com
DTSTAMP:20260420T221831Z
DTSTART:20260711T150000Z
DTEND:20260711T160000Z
SUMMARY:Memorial Service
DESCRIPTION:
URL:https://www.tuftsschildmeyer.com/obituaries/charles-chuck-gay-jr
LOCATION:Otterbein - Lebanon Chapel 585 Ohio 741  Lebanon OH 45036
GEO:39.4466294;-84.2793756
END:VEVENT
END:VCALENDAR