BEGIN:VCALENDAR
VERSION:2.0
PRODID:-//Tukios.com/
BEGIN:VEVENT
UID:3e938c64-d42c-493d-8e39-1b3a33c6d195@www.tuftsschildmeyer.com
DTSTAMP:20260420T222504Z
DTSTART:20260711T140000Z
DTEND:20260711T150000Z
SUMMARY:Celebration of Life
DESCRIPTION:
URL:https://www.tuftsschildmeyer.com/obituaries/charles-chuck-gay-jr
LOCATION:Otterbein - Lebanon Chapel 585 Ohio 741  Lebanon OH 45036
GEO:39.4466294;-84.2793756
END:VEVENT
END:VCALENDAR